BEGIN:VCALENDAR
METHOD:PUBLISH
VERSION:2.0
PRODID:-//WoltLab GmbH//WoltLab Suite Calendar 5.4//EN
CALSCALE:GREGORIAN
X-WR-CALNAME;VALUE=TEXT:2. SchiLf
BEGIN:VEVENT
TRANSP:OPAQUE
UID:event-898@marsbruch.net
URL:https://marsbruch.net/kalender/event/971-2-schilf/
DTSTART:20220301T074500Z
DTSTAMP:20220301T074500Z
CREATED:20220301T074500Z
SUMMARY:2. SchiLf
DESCRIPTION:
DTEND:20220301T133000Z
END:VEVENT
END:VCALENDAR
