BEGIN:VCALENDAR
METHOD:PUBLISH
VERSION:2.0
PRODID:-//WoltLab GmbH//WoltLab Suite Calendar 5.4//EN
CALSCALE:GREGORIAN
X-WR-CALNAME;VALUE=TEXT:Letzter Schultag
BEGIN:VEVENT
TRANSP:OPAQUE
UID:event-913@marsbruch.net
URL:https://marsbruch.net/kalender/event/986-letzter-schultag/
DTSTART:20220624T061000Z
DTSTAMP:20220624T061000Z
CREATED:20220624T061000Z
SUMMARY:Letzter Schultag
DESCRIPTION:Schulschluss: 10:40 Uhr
DTEND:20220624T084000Z
END:VEVENT
END:VCALENDAR
