BEGIN:VCALENDAR
METHOD:PUBLISH
VERSION:2.0
PRODID:-//WoltLab GmbH//WoltLab Suite Calendar 5.4//EN
CALSCALE:GREGORIAN
X-WR-CALNAME;VALUE=TEXT:Wartungsarbeiten LOGINEO NRW
BEGIN:VEVENT
TRANSP:OPAQUE
UID:event-996@marsbruch.net
URL:https://marsbruch.net/kalender/event/1069-wartungsarbeiten-logineo-nrw/
DTSTART:20211120T130000Z
DTSTAMP:20211120T130000Z
CREATED:20211120T130000Z
SUMMARY:Wartungsarbeiten LOGINEO NRW
DTEND:20211122T050000Z
END:VEVENT
END:VCALENDAR
